BEGIN:VCALENDAR
VERSION:2.0
PRODID:-//OmniAction - ECPv5.14.2.1//NONSGML v1.0//EN
CALSCALE:GREGORIAN
METHOD:PUBLISH
X-WR-CALNAME:OmniAction
X-ORIGINAL-URL:https://omniaction.org
X-WR-CALDESC:Events for OmniAction
REFRESH-INTERVAL;VALUE=DURATION:PT1H
X-Robots-Tag:noindex
X-PUBLISHED-TTL:PT1H
BEGIN:VTIMEZONE
TZID:Europe/London
BEGIN:DAYLIGHT
TZOFFSETFROM:+0000
TZOFFSETTO:+0100
TZNAME:BST
DTSTART:20220327T010000
END:DAYLIGHT
BEGIN:STANDARD
TZOFFSETFROM:+0100
TZOFFSETTO:+0000
TZNAME:GMT
DTSTART:20221030T010000
END:STANDARD
END:VTIMEZONE
BEGIN:VEVENT
DTSTART;TZID=Europe/London:20221130T160000
DTEND;TZID=Europe/London:20221130T170000
DTSTAMP:20260424T164801
CREATED:20221107T121628Z
LAST-MODIFIED:20221107T121628Z
UID:1376-1669824000-1669827600@omniaction.org
SUMMARY:OmniFramework - categories and indicators discussion
DESCRIPTION:To join us please register here. Everyone registered via the Evenbrite link will receive the Zoom invitation for joining us two hours before the event begins.  \nJoin Anya Doherty\, OmniAction co-founder + CEO of Foodsteps as we discuss OmniAction’s first framework for sustainability in agrifood. \nWe welcome feedback from our brilliant community as we run through OmniAction’s first framework\, how to apply it\, and what the next steps will be. \nJoin Anya Doherty\, OmniAction co-founder + CEO of Foodsteps as we discuss OmniAction’s first framework for sustainability in agrifood\, along with other key members of the OmniAction community. \nYou’ll find the Framework\, categories and indicators at the bottom of this page. \nFor more background to the Framework do take a look at our Charter of Total Food Impacts. \nAnd for all our events and updates\, do please register here. \nAll welcome to join this open event\, we do look forward to welcoming you.
URL:https://omniaction.org/event/omniframework-categories-and-indicators-discussion/
LOCATION:Zoom
CATEGORIES:Environment,Food safety,Labour rights,Land sovereignty,Nutrition,OmniFramework,Sustainability labels
ATTACH;FMTTYPE=image/jpeg:https://omniaction.org/wp-content/uploads/2022/11/framework.jpg
END:VEVENT
BEGIN:VEVENT
DTSTART;TZID=Europe/London:20220511T160000
DTEND;TZID=Europe/London:20220511T170000
DTSTAMP:20260424T164801
CREATED:20220426T100456Z
LAST-MODIFIED:20220426T100901Z
UID:1255-1652284800-1652288400@omniaction.org
SUMMARY:OmniAction Nutrition topic\, Advisory Group meeting
DESCRIPTION:Progressing the indicators and weightings for the OmniFramework Nutrition topic\n\n\n\n\n\n\n\n\nPlease register here.\n\nFor those interested in the development of OmniAction’s Nutrition indicators\, and how they will be weighted. \nIt will be of interest to those working in Sustainable Diets as well as Nutrition\, along with those interested in multi-criteria measures in food systems. OmniAction’s framework encompasses the environmental\, social and nutritional impacts of agriculture and food. \nYou’ll find the proposed agenda at the Eventbrite page where you register. To contribute to the agenda ahead of time please email lise@omniaction.org. \nEveryone registered via this link will receive the Zoom link for the meeting just ahead of time – please do keep an eye out in case it lands in your Spam folder. \nDo feel free to forward this invitation to peers for whom it may be of interest – OmniAction’s momentum and credibility is very much due to its inclusivity\, allowing ready access to the best science and expertise. \nIn advance please do take a look at the OmniAction Charter. The Nutrition topic which we shall discuss is at 6.4 on page 25: https://omniaction.org/resources/the-omniaction-charter-of-global-food-impacts/
URL:https://omniaction.org/event/omniaction-nutrition-topic-advisory-group-meeting/
CATEGORIES:Nutrition
ATTACH;FMTTYPE=image/png:https://omniaction.org/wp-content/uploads/2022/04/Landscape-1024px.png
END:VEVENT
END:VCALENDAR